BEGIN:VCALENDAR
VERSION:2.0
PRODID:-//Aktif Nesil Spor Okulu - Bursa - ECPv4.9.9//NONSGML v1.0//EN
CALSCALE:GREGORIAN
METHOD:PUBLISH
X-WR-CALNAME:Aktif Nesil Spor Okulu - Bursa
X-ORIGINAL-URL:https://www.aktifnesil.com
X-WR-CALDESC:Events for Aktif Nesil Spor Okulu - Bursa
BEGIN:VTIMEZONE
TZID:Europe/Moscow
BEGIN:STANDARD
TZOFFSETFROM:+0300
TZOFFSETTO:+0300
TZNAME:MSK
DTSTART:20190101T000000
END:STANDARD
END:VTIMEZONE
BEGIN:VEVENT
DTSTART;TZID=Europe/Moscow:20190921T130000
DTEND;TZID=Europe/Moscow:20190922T180000
DTSTAMP:20260421T185257
CREATED:20190920T160731Z
LAST-MODIFIED:20190920T161053Z
UID:6928-1569070800-1569175200@www.aktifnesil.com
SUMMARY:Yüzme
DESCRIPTION:21-22 Eylül 2019 tarihlerinde Beşevler My Kolej Spor Tesisi’nde gerçekleştirilecek olan çalışmalarımızın programı aşağıdaki gibidir. \n1. Grup \nCumartesi: Başlangıç 13:00 – Bitiş 14:15\nPazar : Başlangıç 13:00 – Bitiş: 14:15 \n2. Grup \nCumartesi:  Başlangıç 14:15 – Bitiş: 15:30\nPazar: Başlangıç 14:15 – Bitiş: 15:30 \n3. Grup \nCumartesi:  Başlangıç 15:30 – Bitiş: 16:45\nPazar: Başlangıç 15:30 – Bitiş: 16:45 \n4. Grup \nCumartesi:  Başlangıç 16:45 – Bitiş: 18:00\nPazar: Başlangıç 16:45 – Bitiş: 18:00 \n  \nGrup Antrenör İletişim Bilgileri: xxxxxxxxx \n
URL:https://www.aktifnesil.com/etkinlik/yuzme/
LOCATION:My Kolej\, Konak Mahallesi\, Lise Sk. D:No:5\, 16110 Nilüfer\, Bursa\, Bursa\, 16360\, Türkiye
CATEGORIES:Yüzme
ATTACH;FMTTYPE=image/jpeg:https://www.aktifnesil.com/wp-content/uploads/2019/09/yüzme7.jpg
END:VEVENT
END:VCALENDAR