BEGIN:VCALENDAR
VERSION:2.0
PRODID:-//Aktif Nesil Spor Okulu - Bursa - ECPv4.9.9//NONSGML v1.0//EN
CALSCALE:GREGORIAN
METHOD:PUBLISH
X-WR-CALNAME:Aktif Nesil Spor Okulu - Bursa
X-ORIGINAL-URL:https://www.aktifnesil.com
X-WR-CALDESC:Events for Aktif Nesil Spor Okulu - Bursa
BEGIN:VTIMEZONE
TZID:Europe/Moscow
BEGIN:STANDARD
TZOFFSETFROM:+0300
TZOFFSETTO:+0300
TZNAME:MSK
DTSTART:20190101T000000
END:STANDARD
END:VTIMEZONE
BEGIN:VEVENT
DTSTART;TZID=Europe/Moscow:20190928T130000
DTEND;TZID=Europe/Moscow:20190928T180000
DTSTAMP:20260421T173815
CREATED:20190925T120355Z
LAST-MODIFIED:20190926T104302Z
UID:7079-1569675600-1569693600@www.aktifnesil.com
SUMMARY:Yüzme
DESCRIPTION:1. Grup \nCumartesi: Başlangıç 13:00 – Bitiş 14:00 \n2. Grup \nCumartesi:  Başlangıç 14:00 – Bitiş: 15:00 \n3. Grup \nCumartesi:  Başlangıç 15:00 – Bitiş: 16:00 \n4. Grup \nCumartesi:  Başlangıç 16:00 – Bitiş: 17:00 \n
URL:https://www.aktifnesil.com/etkinlik/yuzme-2/
LOCATION:My Kolej\, Konak Mahallesi\, Lise Sk. D:No:5\, 16110 Nilüfer\, Bursa\, Bursa\, 16360\, Türkiye
CATEGORIES:Yüzme
ATTACH;FMTTYPE=image/png:https://www.aktifnesil.com/wp-content/uploads/2019/09/yuzme.png
ORGANIZER;CN="Bilge%20Alt%C4%B1nta%C5%9F":MAILTO:bilgealtintas@aktifnesil.com
END:VEVENT
END:VCALENDAR