BEGIN:VCALENDAR
VERSION:2.0
PRODID:-//Aktif Nesil Spor Okulu - Bursa - ECPv4.9.9//NONSGML v1.0//EN
CALSCALE:GREGORIAN
METHOD:PUBLISH
X-WR-CALNAME:Aktif Nesil Spor Okulu - Bursa
X-ORIGINAL-URL:https://www.aktifnesil.com
X-WR-CALDESC:Events for Aktif Nesil Spor Okulu - Bursa
BEGIN:VTIMEZONE
TZID:Europe/Moscow
BEGIN:STANDARD
TZOFFSETFROM:+0300
TZOFFSETTO:+0300
TZNAME:MSK
DTSTART:20190101T000000
END:STANDARD
END:VTIMEZONE
BEGIN:VEVENT
DTSTART;TZID=Europe/Moscow:20190928T153000
DTEND;TZID=Europe/Moscow:20190928T183000
DTSTAMP:20260421T185750
CREATED:20190925T113122Z
LAST-MODIFIED:20190925T113122Z
UID:7070-1569684600-1569695400@www.aktifnesil.com
SUMMARY:Voleybol
DESCRIPTION:1. Grup \nCumartesi: Başlangıç 15:45 – Bitiş 17:00 \n2. Grup \nCumartesi:  Başlangıç 17:10 – Bitiş: 18:15 \nAntrenman Yeri: \nMy Kolej Beşevler Kampüsü Spor Salonu \n
URL:https://www.aktifnesil.com/etkinlik/voleybol-4/
LOCATION:My Kolej\, Konak Mahallesi\, Lise Sk. D:No:5\, 16110 Nilüfer\, Bursa\, Bursa\, 16360\, Türkiye
CATEGORIES:Voleybol
ATTACH;FMTTYPE=image/jpeg:https://www.aktifnesil.com/wp-content/uploads/2019/09/voleybol.jpg
END:VEVENT
END:VCALENDAR