BEGIN:VCALENDAR
VERSION:2.0
PRODID:-//Aktif Nesil Spor Okulu - Bursa - ECPv4.9.9//NONSGML v1.0//EN
CALSCALE:GREGORIAN
METHOD:PUBLISH
X-WR-CALNAME:Aktif Nesil Spor Okulu - Bursa
X-ORIGINAL-URL:https://www.aktifnesil.com
X-WR-CALDESC:Events for Aktif Nesil Spor Okulu - Bursa
BEGIN:VTIMEZONE
TZID:Europe/Moscow
BEGIN:STANDARD
TZOFFSETFROM:+0300
TZOFFSETTO:+0300
TZNAME:MSK
DTSTART:20190101T000000
END:STANDARD
END:VTIMEZONE
BEGIN:VEVENT
DTSTART;TZID=Europe/Moscow:20190922T090000
DTEND;TZID=Europe/Moscow:20190922T120000
DTSTAMP:20260421T185657
CREATED:20190924T084900Z
LAST-MODIFIED:20190924T084900Z
UID:7016-1569142800-1569153600@www.aktifnesil.com
SUMMARY:Voleybol
DESCRIPTION:1. Grup\nPazar : Başlangıç 09:00 – Bitiş: 10:15 \nÖğrenciler: xxxx \n2. Grup \nPazar: Başlangıç 10:30 – Bitiş: 11:45 \nÖğrenciler: xxxx \n  \nAntrenman Yeri: \nMy Kolej Beşevler Kampüsü Spor Salonu \n
URL:https://www.aktifnesil.com/etkinlik/voleybol-2/
CATEGORIES:Voleybol
ATTACH;FMTTYPE=image/jpeg:https://www.aktifnesil.com/wp-content/uploads/2019/09/voleybol.jpg
END:VEVENT
END:VCALENDAR