BEGIN:VCALENDAR
VERSION:2.0
PRODID:-//Aktif Nesil Spor Okulu - Bursa - ECPv4.9.9//NONSGML v1.0//EN
CALSCALE:GREGORIAN
METHOD:PUBLISH
X-WR-CALNAME:Aktif Nesil Spor Okulu - Bursa
X-ORIGINAL-URL:https://www.aktifnesil.com
X-WR-CALDESC:Events for Aktif Nesil Spor Okulu - Bursa
BEGIN:VTIMEZONE
TZID:Europe/Moscow
BEGIN:STANDARD
TZOFFSETFROM:+0300
TZOFFSETTO:+0300
TZNAME:MSK
DTSTART:20190101T000000
END:STANDARD
END:VTIMEZONE
BEGIN:VEVENT
DTSTART;TZID=Europe/Moscow:20190929T130000
DTEND;TZID=Europe/Moscow:20190929T184500
DTSTAMP:20260421T171439
CREATED:20190925T120005Z
LAST-MODIFIED:20190925T120005Z
UID:7077-1569762000-1569782700@www.aktifnesil.com
SUMMARY:Cimnastik
DESCRIPTION:1. Grup\nPazar : Başlangıç 13:00 – Bitiş: 14:15 \n2. Grup\nPazar: Başlangıç 14:30 – Bitiş: 15:45 \n3. Grup\nPazar: Başlangıç 16:00 – Bitiş: 17:15 \n4. Grup\nPazar: Başlangıç 17:30 – Bitiş: 18:45 \nAntrenman Yeri: \nMy Kolej Beşevler Kampüsü Spor Salonu \n
URL:https://www.aktifnesil.com/etkinlik/cimnastik-2/
LOCATION:My Kolej\, Konak Mahallesi\, Lise Sk. D:No:5\, 16110 Nilüfer\, Bursa\, Bursa\, 16360\, Türkiye
CATEGORIES:Cimnastik
ATTACH;FMTTYPE=image/png:https://www.aktifnesil.com/wp-content/uploads/2019/09/CİM.png
ORGANIZER;CN="Seda%20G%C3%B6z":MAILTO:sedagoz@aktifnesil.com
END:VEVENT
END:VCALENDAR