BEGIN:VCALENDAR
VERSION:2.0
PRODID:-//Aktif Nesil Spor Okulu - Bursa - ECPv4.9.9//NONSGML v1.0//EN
CALSCALE:GREGORIAN
METHOD:PUBLISH
X-WR-CALNAME:Aktif Nesil Spor Okulu - Bursa
X-ORIGINAL-URL:https://www.aktifnesil.com
X-WR-CALDESC:Events for Aktif Nesil Spor Okulu - Bursa
BEGIN:VTIMEZONE
TZID:Europe/Moscow
BEGIN:STANDARD
TZOFFSETFROM:+0300
TZOFFSETTO:+0300
TZNAME:MSK
DTSTART:20190101T000000
END:STANDARD
END:VTIMEZONE
BEGIN:VEVENT
DTSTART;TZID=Europe/Moscow:20190928T130000
DTEND;TZID=Europe/Moscow:20190928T173000
DTSTAMP:20260421T185610
CREATED:20190925T112611Z
LAST-MODIFIED:20190925T112611Z
UID:7065-1569675600-1569691800@www.aktifnesil.com
SUMMARY:Basketbol
DESCRIPTION:1. Grup \nCumartesi  : Başlangıç 13:00 – Bitiş: 14:15 \n2. Grup \nCumartesi : Başlangıç 14:15 – Bitiş: 15:30 \n  \nAntrenman Yeri: My Kolej Spor Salonu \n
URL:https://www.aktifnesil.com/etkinlik/basketbol-3/
LOCATION:My Kolej\, Konak Mahallesi\, Lise Sk. D:No:5\, 16110 Nilüfer\, Bursa\, Bursa\, 16360\, Türkiye
CATEGORIES:Basketbol
ATTACH;FMTTYPE=image/jpeg:https://www.aktifnesil.com/wp-content/uploads/2019/09/basketball.jpg
ORGANIZER;CN="Mete%20Do%C4%9Fan":MAILTO:mete@aktifnesil.com
END:VEVENT
END:VCALENDAR